BEGIN:VCALENDAR
VERSION:2.0
PRODID:-//Cuéntame un Cuadro - ECPv6.15.20//NONSGML v1.0//EN
CALSCALE:GREGORIAN
METHOD:PUBLISH
X-WR-CALNAME:Cuéntame un Cuadro
X-ORIGINAL-URL:https://cuentameuncuadro.com
X-WR-CALDESC:Eventos para Cuéntame un Cuadro
REFRESH-INTERVAL;VALUE=DURATION:PT1H
X-Robots-Tag:noindex
X-PUBLISHED-TTL:PT1H
BEGIN:VTIMEZONE
TZID:Europe/Madrid
BEGIN:DAYLIGHT
TZOFFSETFROM:+0100
TZOFFSETTO:+0200
TZNAME:CEST
DTSTART:20250330T010000
END:DAYLIGHT
BEGIN:STANDARD
TZOFFSETFROM:+0200
TZOFFSETTO:+0100
TZNAME:CET
DTSTART:20251026T010000
END:STANDARD
BEGIN:DAYLIGHT
TZOFFSETFROM:+0100
TZOFFSETTO:+0200
TZNAME:CEST
DTSTART:20260329T010000
END:DAYLIGHT
BEGIN:STANDARD
TZOFFSETFROM:+0200
TZOFFSETTO:+0100
TZNAME:CET
DTSTART:20261025T010000
END:STANDARD
BEGIN:DAYLIGHT
TZOFFSETFROM:+0100
TZOFFSETTO:+0200
TZNAME:CEST
DTSTART:20270328T010000
END:DAYLIGHT
BEGIN:STANDARD
TZOFFSETFROM:+0200
TZOFFSETTO:+0100
TZNAME:CET
DTSTART:20271031T010000
END:STANDARD
END:VTIMEZONE
BEGIN:VEVENT
DTSTART;TZID=Europe/Madrid:20260407T100000
DTEND;TZID=Europe/Madrid:20260428T113000
DTSTAMP:20260421T230439
CREATED:20260319T120000Z
LAST-MODIFIED:20260319T120000Z
UID:10000253-1775556000-1777375800@cuentameuncuadro.com
SUMMARY:Taller de escritura creativa en Luanco
DESCRIPTION:Taller de escritura creativa · Casa de cultura de Gozón \nHay algo que siempre nos decimos: “yo no sé escribir”. Pero la realidad es otra: sabes contar historias\, sabes imaginar y sabes sentir. Solo necesitas un lugar donde ponerlo en palabras. Este taller es justo eso. \nDe la mano de Jessica Gómez Álvarez —autora de libros como Come chocolate y no discutas con idiotas o Mamá en busca del polvo perdido— trabajarás la escritura desde un lugar cercano\, sin solemnidad y sin miedo a la página en blanco. \nDurante cuatro sesiones\, explorarás ideas\, jugarás con las palabras y descubrirás que escribir no va de hacerlo perfecto\, sino de hacerlo tuyo. Habrá ejercicios prácticos\, propuestas creativas y\, sobre todo\, un espacio para probar\, equivocarte y encontrar tu propia voz. \nPorque escribir también es mirarte\, ordenar lo que piensas… y\, a veces\, sorprenderte. \n📍 Cuándo: martes 7\, 14\, 21 y 28 de abril🕙 Horario: 10:00–11:30📌 Dónde: Casa de cultura de Gozón (Pl. Zapardel\, 1\, 33448 Luanco\, Asturias)Plazas limitadas.Necesaria inscripción previa del 9 al 31 de marzo en la Casa de cultura de Gozón. \nSi llevas tiempo queriendo escribir y no sabes por dónde empezar\, este es tu sitio.Y si ya escribes\, también. \nSolo necesitas ganas. \nNos vemos al otro lado de la página. ✍️
URL:https://cuentameuncuadro.com/evento/taller-de-escritura-en-luanco/
LOCATION:Casa de cultura de Luanco\, Pl. Zapardel\, 0 S N\, Luanco\, Asturias\, 33440
CATEGORIES:Talleres
ATTACH;FMTTYPE=image/jpeg:https://cuentameuncuadro.com/wp-content/uploads/2026/03/taller-de-escritura-creativa.jpg
END:VEVENT
BEGIN:VEVENT
DTSTART;TZID=Europe/Madrid:20260425T113000
DTEND;TZID=Europe/Madrid:20260425T123000
DTSTAMP:20260421T230439
CREATED:20260319T121617Z
LAST-MODIFIED:20260319T121617Z
UID:10000256-1777116600-1777120200@cuentameuncuadro.com
SUMMARY:Talleres infantiles de BiblioArte (Luanco)
DESCRIPTION:¿Y si te dijéramos que los libros también se pueden tocar\, recortar y transformar? \nEn BiblioArte para peques convertimos la biblioteca en un espacio de creación. A partir de los libros que habitan sus estanterías\, desarrollamos talleres creativos donde experimentar con materiales\, técnicas y formas de expresión. \nCada sesión será diferente: nuevas historias\, nuevos temas y nuevas maneras de crear. Una invitación a imaginar\, probar y descubrir que la creatividad también se entrena. \nUna propuesta pensada para que los más pequeños se acerquen a la biblioteca desde otro lugar: jugando\, creando y explorando. \n📍 25 de abril | 9 y 23 de mayo🕒 De 11:30 a 13:30 h📌 Biblioteca Municipal de Luanco👧👦 A partir de 6 años🎟️ Necesario inscripción previa. Plazas limitadas e inscripción abierta desde el lunes de la misma semana del taller en la biblioteca)
URL:https://cuentameuncuadro.com/evento/talleres-biblioarte-luanco-3-2/
LOCATION:Biblioteca de Luanco\, Pl. Zapardel\, 1\, 33448 Luanco\, Asturias
CATEGORIES:Talleres
ATTACH;FMTTYPE=image/jpeg:https://cuentameuncuadro.com/wp-content/uploads/2026/02/PORTADAS-WEB-5.jpg
END:VEVENT
BEGIN:VEVENT
DTSTART;TZID=Europe/Madrid:20260425T173000
DTEND;TZID=Europe/Madrid:20260425T190000
DTSTAMP:20260421T230439
CREATED:20260320T131450Z
LAST-MODIFIED:20260331T090642Z
UID:10000258-1777138200-1777143600@cuentameuncuadro.com
SUMMARY:Museo del Instituto Asturiano de Prevención de Riesgos Laborales 
DESCRIPTION:Feria de la Prevención en el Instituto Asturiano de Prevención de Riesgos Laborales Arte\, cultura y salud para mirar el trabajo desde otro lugar \nCon motivo del Día Internacional de la Seguridad y la Salud en el Trabajo (28 de abril)\, el Instituto Asturiano de Prevención de Riesgos Laborales organiza un fin de semana abierto a toda la sociedad para acercar la cultura preventiva desde un enfoque diferente: participativo\, lúdico y accesible. \nLa programación comienza el sábado 25 de abril por la tarde con la Feria de la Prevención\, una jornada festiva en la sede del IAPRL pensada para todos los públicos\, con actividades deportivas\, culturales y de ocio. \nDentro de esta programación\, Cuéntame un cuadro participará con una propuesta específica: una visita guiada al Museo de la Prevención\, en la que\, a partir de cinco reproducciones de obras de arte\, se abordará la representación del trabajo a lo largo de la historia. La actividad se desarrollará en dos pases: 17:30 y 18:30. \nUna forma distinta de acercarse a la cultura preventiva: no solo desde la norma\, sino también desde la imagen\, la historia y la reflexión. \nEsa misma tarde\, podréis disfrutar de juegos deportivos (baloncesto y deporte adaptado)\, actividades infantiles como karts\, rocódromo o barredora\, una merienda saludable\, show cooking\, stands participativos\, una sesión de primeros auxilios\, experiencias con realidad virtual para simular situaciones de emergencia\, visitas a una UVI móvil y proyecciones de cortos sobre acoso y desconexión digital. Y para cerrar la jornada\, música en directo con el grupo La Movida\, con un repertorio dedicado a los grandes éxitos de los años 80. \nEl domingo 26 de abril tendrá lugar además una carrera popular de 5 kilómetros por el centro de Oviedo\, abierta a todos los públicos —corredores\, andarines\, familias— dentro de la campaña “Hábitos deportivos\, hábitos preventivos”.La recaudación se destinará a la ONG La vida con Hernia Diafragmática Congénita. \nUna invitación a participar\, disfrutar… y pensar el trabajo desde otro lugar. \n📍 Dónde: Instituto Asturiano de Prevención de Riesgos Laborales (IAPRL)\, Oviedo📅 Cuándo: Sábado 25 de abril – Pase 1:17:30/Pase2: 18:30 – (Feria a partir de las 16:30) · Domingo 26 de abril (carrera)🎟️ Actividad abierta al público
URL:https://cuentameuncuadro.com/evento/la-feria-de-la-prevencion-en-el-iaprl/
LOCATION:instituto asturiano de prevención de riesgos laborales\, Av. Cristo de las Cadenas\, 107\,\, Oviedo\, Asturias\, 33006\, Spain
CATEGORIES:Visitas guiadas
ATTACH;FMTTYPE=image/jpeg:https://cuentameuncuadro.com/wp-content/uploads/2026/03/Museo-de-la-prevencion-Oviedo.jpg
END:VEVENT
BEGIN:VEVENT
DTSTART;TZID=Europe/Madrid:20260429T103000
DTEND;TZID=Europe/Madrid:20260429T133000
DTSTAMP:20260421T230439
CREATED:20260225T143840Z
LAST-MODIFIED:20260225T144230Z
UID:10000246-1777458600-1777469400@cuentameuncuadro.com
SUMMARY:Talleres educativos en el Centro Niemeyer (Avilés)
DESCRIPTION:¿Y si te dijéramos que aprender a mirar también es aprender a pensar? \nEn colaboración con el Centro Niemeyer\, desarrollamos un programa de talleres didácticos en torno a la exposición “Ramón Masats. Visit Spain” y la intervención de Ramón Isidoro\, dirigido a centros educativos de Primaria y Secundaria. \nLos grupos podrán elegir entre dos propuestas: \n– Ramón Masats (Primaria y Secundaria): una visita guiada para aprender a leer la fotografía más allá de lo evidente\, analizando encuadre\, punto de vista e intención\, y desarrollando una mirada crítica. \n– Ramón Isidoro (Primaria): un recorrido guiado centrado en la plástica contemporánea y el uso del color como herramienta expresiva. \nEn ambos casos\, la sesión se completa con una actividad práctica de creación para experimentar con el propio lenguaje visual. \n📍 Fechas: 29 de abril\, 6 de mayo🕒 Turnos: 10:30–12:00 h | 12:00–13:30 h📌 Centro Niemeyer\, Avilés👥 Grupos de hasta 50 alumnos/as + profesorado💶 Precio: 6 € por alumno/a (profesorado gratuito)✉️ Inscripciones: info@niemeyercenter.org
URL:https://cuentameuncuadro.com/evento/talleres-educativos-centro-niemeyer-4/
LOCATION:Centro Niemeyer\, Av. del Zinc\, s/n\, 33490 Avilés\, Asturias\, Spain
CATEGORIES:Talleres
ATTACH;FMTTYPE=image/jpeg:https://cuentameuncuadro.com/wp-content/uploads/2024/08/Talleres-a-pie-de-obra.jpg
END:VEVENT
BEGIN:VEVENT
DTSTART;TZID=Europe/Madrid:20260429T193000
DTEND;TZID=Europe/Madrid:20260429T203000
DTSTAMP:20260421T230439
CREATED:20260418T134204Z
LAST-MODIFIED:20260418T134417Z
UID:10000264-1777491000-1777494600@cuentameuncuadro.com
SUMMARY:Conferencia "a pie de obra" Centro Niemeyer
DESCRIPTION:Conferencia a pie de obra: Ramón Masats. Visit Spain \n¿Cómo se lee una fotografía? En la exposición Visit Spain de Ramón Masats\, esta conferencia «a pie de obra» propone algo tan sencillo como poco habitual: detenerse frente a una imagen y mirarla con atención. Sin intermediarios. Sin prisa. \nLa sesión tendrá lugar literalmente delante de una de las fotografías de la exposición\, convirtiendo la obra en el punto de partida para una doble lectura. Por un lado\, la historiadora Arantza Margolles abordará el contexto histórico: quién era Masats\, qué España estaba fotografiando y qué hay detrás de esas imágenes de los años 50 y 60\, en pleno auge del turismo durante el franquismo y en un momento clave en la construcción de una imagen de país. \nPor otro\, Patricia Pérez\, historiadora del arte\, se centrará en la lectura artística: cómo se construye la fotografía\, qué decisiones hay en el encuadre\, la composición o el instante preciso en el que se dispara la cámara. También se revisarán los tópicos asociados a la imagen turística de España\, muchos de ellos heredados del siglo XIX\, y su representación a lo largo de la historia del arte. \nDos miradas distintas para una misma imagen. \nUna propuesta para parar\, observar y entender que toda fotografía —por cotidiana que parezca— está cargada de intención. \n📍 Centro Niemeyer📅 Miércoles 29 de abril🕢 19:30📍 Tarifa: 3€*/persona \nEntradas ya disponibles en la web del centro.
URL:https://cuentameuncuadro.com/evento/conferencia-a-pie-de-obra-centro-niemeyer-abril/
LOCATION:Auditorio Centro Niemeyer\, Av. del Zinc\, s/n\, Avilés\, Asturias\, 33490\, España
CATEGORIES:Conferencia
ATTACH;FMTTYPE=image/jpeg:https://cuentameuncuadro.com/wp-content/uploads/2026/03/conferencia-a-pie-de-obra-masats.jpg
END:VEVENT
BEGIN:VEVENT
DTSTART;TZID=Europe/Madrid:20260506T103000
DTEND;TZID=Europe/Madrid:20260506T133000
DTSTAMP:20260421T230439
CREATED:20260225T144435Z
LAST-MODIFIED:20260225T144435Z
UID:10000247-1778063400-1778074200@cuentameuncuadro.com
SUMMARY:Talleres educativos en el Centro Niemeyer (Avilés)
DESCRIPTION:¿Y si te dijéramos que aprender a mirar también es aprender a pensar? \nEn colaboración con el Centro Niemeyer\, desarrollamos un programa de talleres didácticos en torno a la exposición “Ramón Masats. Visit Spain” y la intervención de Ramón Isidoro\, dirigido a centros educativos de Primaria y Secundaria. \nLos grupos podrán elegir entre dos propuestas: \n– Ramón Masats (Primaria y Secundaria): una visita guiada para aprender a leer la fotografía más allá de lo evidente\, analizando encuadre\, punto de vista e intención\, y desarrollando una mirada crítica. \n– Ramón Isidoro (Primaria): un recorrido guiado centrado en la plástica contemporánea y el uso del color como herramienta expresiva. \nEn ambos casos\, la sesión se completa con una actividad práctica de creación para experimentar con el propio lenguaje visual. \n📍 Fechas: 6 de mayo🕒 Turnos: 10:30–12:00 h | 12:00–13:30 h📌 Centro Niemeyer\, Avilés👥 Grupos de hasta 50 alumnos/as + profesorado💶 Precio: 6 € por alumno/a (profesorado gratuito)✉️ Inscripciones: info@niemeyercenter.org
URL:https://cuentameuncuadro.com/evento/talleres-educativos-centro-niemeyer-5/
LOCATION:Centro Niemeyer\, Av. del Zinc\, s/n\, 33490 Avilés\, Asturias\, Spain
CATEGORIES:Talleres
ATTACH;FMTTYPE=image/jpeg:https://cuentameuncuadro.com/wp-content/uploads/2024/08/Talleres-a-pie-de-obra.jpg
END:VEVENT
BEGIN:VEVENT
DTSTART;TZID=Europe/Madrid:20260509T113000
DTEND;TZID=Europe/Madrid:20260509T123000
DTSTAMP:20260421T230439
CREATED:20260417T091500Z
LAST-MODIFIED:20260417T091500Z
UID:10000262-1778326200-1778329800@cuentameuncuadro.com
SUMMARY:Talleres infantiles de BiblioArte (Luanco)
DESCRIPTION:¿Y si te dijéramos que los libros también se pueden tocar\, recortar y transformar? \nEn BiblioArte para peques convertimos la biblioteca en un espacio de creación. A partir de los libros que habitan sus estanterías\, desarrollamos talleres creativos donde experimentar con materiales\, técnicas y formas de expresión. \nCada sesión será diferente: nuevas historias\, nuevos temas y nuevas maneras de crear. Una invitación a imaginar\, probar y descubrir que la creatividad también se entrena. \nUna propuesta pensada para que los más pequeños se acerquen a la biblioteca desde otro lugar: jugando\, creando y explorando. \n📍 9 y 23 de mayo🕒 De 11:30 a 13:30 h📌 Biblioteca Municipal de Luanco👧👦 A partir de 6 años🎟️ Necesario inscripción previa. Plazas limitadas e inscripción abierta desde el lunes de la misma semana del taller en la biblioteca)
URL:https://cuentameuncuadro.com/evento/talleres-biblioarte-luanco-5/
LOCATION:Biblioteca de Luanco\, Pl. Zapardel\, 1\, 33448 Luanco\, Asturias
CATEGORIES:Talleres
ATTACH;FMTTYPE=image/jpeg:https://cuentameuncuadro.com/wp-content/uploads/2026/02/PORTADAS-WEB-5.jpg
END:VEVENT
BEGIN:VEVENT
DTSTART;TZID=Europe/Madrid:20260510T113000
DTEND;TZID=Europe/Madrid:20260510T123000
DTSTAMP:20260421T230440
CREATED:20260225T130715Z
LAST-MODIFIED:20260225T130715Z
UID:10000228-1778412600-1778416200@cuentameuncuadro.com
SUMMARY:Rutas de Arte: Masats "Visit Spain"
DESCRIPTION:Más información y entradas \nEn colaboración con el Centro Niemeyer\, te proponemos algo muy concreto: aprender a mirar la fotografía de otra manera. \nLas Rutas de Arte que hemos preparado giran en torno a la exposición “Ramón Masats. Visit Spain”\, dedicada a uno de los grandes nombres de la fotografía española del siglo XX.  \nPero esto no va solo de ver fotos. Va de entender que una fotografía no es una captura inocente de la realidad. Que detrás de cada imagen hay decisiones: qué entra en el encuadre\, qué se queda fuera\, cuándo se dispara\, desde dónde se mira. Y que\, como ocurre con la pintura\, todo eso construye un significado. \nCon Ramón Masats te vas a encontrar algo más que escenas de la España de los años cincuenta y sesenta. Vas a descubrir una forma de mirar: imágenes con ironía\, con tensión\, con una composición muy pensada. Fotografías que dialogan con la historia del arte —donde asoman ecos de Goya o cierta luz que recuerda a Sorolla— y que te invitan a detenerte un poco más. \nDurante la visita\, iremos más allá de lo evidente. Te proponemos leer las imágenes\, desmenuzarlas\, preguntarte qué está pasando realmente dentro de ese encuadre y por qué. \nPorque no\, la fotografía no es algo que “no tenga nada que explicar”. Al contrario: cada imagen es una forma de pensamiento visual.Y mirar a Masats será\, en el fondo\, aprender a mirar mejor. \nEl precio de las Rutas de Arte es de 10 € por persona. Además\, los titulares del Club Cultura podrán beneficiarse de un precio reducido de 8 € por persona\, con un máximo de dos entradas por tarjeta. Este descuento podrá aplicarse hasta el mismo día de la actividad\, siempre que haya plazas disponibles. \nFechas disponibles (Domingos 11:30): 10 de mayo
URL:https://cuentameuncuadro.com/evento/rutas-de-arte-masats-4/
LOCATION:Cúpula del Centro Niemeyer\, Av. del Zinc\, s/n\, Avilés\, Asturias\, 33490\, España
CATEGORIES:Visitas guiadas
ATTACH;FMTTYPE=image/jpeg:https://cuentameuncuadro.com/wp-content/uploads/2026/02/Rutas-de-Arte-Masats.jpg
END:VEVENT
BEGIN:VEVENT
DTSTART;TZID=Europe/Madrid:20260512T181500
DTEND;TZID=Europe/Madrid:20260512T200000
DTSTAMP:20260421T230440
CREATED:20260305T094248Z
LAST-MODIFIED:20260313T145239Z
UID:10000252-1778609700-1778616000@cuentameuncuadro.com
SUMMARY:MerendArte Mayo en Avilés
DESCRIPTION:Martes 12 de mayo · Merendarte: El almuerzo de los remeros de Renoir\nMás información y entradas  \nMerendarte es una propuesta diferente en la que unimos arte y gastronomía en un mismo plan. \nEn esta edición te invitamos a sentarte a la mesa de El almuerzo de los remeros\, una de las escenas más luminosas y celebradas del impresionismo. Pintada por Pierre‑Auguste Renoir en 1881\, la obra nos lleva a una terraza junto al río donde un grupo de amigos comparte comida\, vino y conversación en una tarde despreocupada. \nNos detendremos en sus protagonistas —remeros\, actrices\, periodistas y amigos del pintor— para descubrir quiénes eran y cómo Renoir convirtió un momento cotidiano en una escena llena de vida. Hablaremos también del ambiente social de la París de finales del siglo XIX\, del ocio en las orillas del río Sena y de cómo el impresionismo buscó capturar la luz\, el movimiento y la alegría de la vida moderna. \nAnalizaremos además la composición del cuadro\, el juego entre interior y exterior\, los gestos de los personajes y la manera en que Renoir utiliza el color y la pincelada para transmitir esa sensación de tarde cálida\, conversación animada y tiempo suspendido. \nDespués\, disfrutaremos de una merienda dulce inspirada en la obra\, que podrás acompañar con refresco\, infusión o café. \n Una experiencia cultural para saborear el arte… como si también estuvieras invitada a la mesa. \nDía: Martes 12 de mayoHora: 18:15Lugar: Gastrobar Plazas \nPolítica de ventasLas entradas no son reembolsables en caso de no asistencia. No obstante\, podrá transferirse la reserva a otra persona\, siempre que se comunique con antelación.
URL:https://cuentameuncuadro.com/evento/merendarte-mayo-en-aviles/
LOCATION:Gastropub Plazas\, Plaza del Carbayedo\, 49\, Avilés\, Asturias\, 33402\, Spain
CATEGORIES:MerendArte
ATTACH;FMTTYPE=image/jpeg:https://cuentameuncuadro.com/wp-content/uploads/2025/09/PORTADAS-WEB-1.jpg
END:VEVENT
BEGIN:VEVENT
DTSTART;TZID=Europe/Madrid:20260515T203000
DTEND;TZID=Europe/Madrid:20260515T213000
DTSTAMP:20260421T230440
CREATED:20260417T090821Z
LAST-MODIFIED:20260417T091237Z
UID:10000260-1778877000-1778880600@cuentameuncuadro.com
SUMMARY:Las mujeres de los cuadros cobran vida
DESCRIPTION:Propuesta escénica: Las mujeres de los cuadros cobran vida. Casa de Cultura\, Tapia de Casariego. \nEn esta propuesta escénica\, algunas de las protagonistas más conocidas de la Historia del Arte abandonan el lienzo para contarte —por fin— su propia versión de la historia. \nLa La Gioconda\, Juana de Castilla o las mujeres retratadas por Julio Romero de Torres toman la palabra en una pieza que cuestiona cómo han sido representadas a lo largo del tiempo. \nLa propuesta combina un monólogo divulgativo con música en directo\, que acompaña e ilustra cada una de las historias. A través de este formato\, no solo escucharás a las protagonistas\, sino que también entenderás el contexto en el que fueron creadas esas imágenes: qué sociedad las construyó y por qué. \nA lo largo del espectáculo\, iremos descubriendo estos estereotipos en distintos ejemplos: la Gioconda y su ideal de virtud\, Juana de Castilla convertida en símbolo de la locura por amor\, la protagonista de Falenas leída como femme fatale pese a su realidad\, o las “morenas” que responden al imaginario andaluz construido por la pintura. \nLa propuesta es clara: escuchar lo que nunca se contó. \nPorque la historia del arte no solo se mira. También se cuestiona. \n📅 Día: viernes\, 15 de mayo de 2026📍 Dónde: Casa de Cultura de Tapia de Casariego📅 Hora: 20:30🎟️ Entrada gratuita hasta completar aforo
URL:https://cuentameuncuadro.com/evento/las-mujeres-de-los-cuadros-cobran-vida-tapia-de-casariego/
LOCATION:Casa de cultura de Tapia de Casariego\, Plaza del mercado\, 1\, Tapia de Casariego\, Asturias\, 33740\, Spain
CATEGORIES:Espectáculo cultural
ATTACH;FMTTYPE=image/jpeg:https://cuentameuncuadro.com/wp-content/uploads/2024/11/plantilla-imagen-agenda-web1.jpg
END:VEVENT
BEGIN:VEVENT
DTSTART;TZID=Europe/Madrid:20260516T190000
DTEND;TZID=Europe/Madrid:20260516T200000
DTSTAMP:20260421T230440
CREATED:20260417T091157Z
LAST-MODIFIED:20260417T091157Z
UID:10000261-1778958000-1778961600@cuentameuncuadro.com
SUMMARY:Charla "La violencia machista en el Arte" en Tapia de Casariego
DESCRIPTION:Conferencia: La banalización de la violencia machista en la Historia del Arte. Auditorio\, Tapia de Casariego. \nEn esta conferencia nos asomaremos a distintas obras de arte para analizar cómo se ha representado la violencia machista a lo largo de la historia y qué relato se ha construido en torno a ella. \nDesde la Antigüedad clásica hasta la actualidad\, pasando por el Medievo y la Edad Moderna\, recorreremos imágenes que forman parte del relato artístico hegemónico para preguntarnos no solo qué muestran… sino cómo lo muestran. \nLa sesión propone una lectura crítica: observar\, analizar y poner en cuestión representaciones que\, durante siglos\, han normalizado o incluso estetizado la violencia contra las mujeres. \nA través de ejemplos concretos\, veremos cómo ciertos enfoques visuales y narrativos se repiten en el tiempo y cómo\, lejos de ser algo del pasado\, muchas de estas formas de representación siguen presentes hoy en los medios de comunicación. \nLa propuesta es clara: aprender a mirar con herramientas. \nPorque las imágenes no solo cuentan historias. También construyen la forma en que las entendemos. \n📍 Dónde: Auditorio de Tapia de Casariego📅 Fecha: Sábado 16 de mayo🕓 Hora: Por la tarde (pendiente de confirmación)🎟️ Entrada libre hasta completar aforo
URL:https://cuentameuncuadro.com/evento/charla-la-violencia-machista-en-el-arte-en-tapia-de-casariego/
LOCATION:Casa de cultura de Tapia de Casariego\, Plaza del mercado\, 1\, Tapia de Casariego\, Asturias\, 33740\, Spain
CATEGORIES:Conferencia
ATTACH;FMTTYPE=image/jpeg:https://cuentameuncuadro.com/wp-content/uploads/2024/11/9.jpg
END:VEVENT
BEGIN:VEVENT
DTSTART;TZID=Europe/Madrid:20260523T113000
DTEND;TZID=Europe/Madrid:20260523T123000
DTSTAMP:20260421T230440
CREATED:20260417T091541Z
LAST-MODIFIED:20260417T091553Z
UID:10000263-1779535800-1779539400@cuentameuncuadro.com
SUMMARY:Talleres infantiles de BiblioArte (Luanco)
DESCRIPTION:¿Y si te dijéramos que los libros también se pueden tocar\, recortar y transformar? \nEn BiblioArte para peques convertimos la biblioteca en un espacio de creación. A partir de los libros que habitan sus estanterías\, desarrollamos talleres creativos donde experimentar con materiales\, técnicas y formas de expresión. \nCada sesión será diferente: nuevas historias\, nuevos temas y nuevas maneras de crear. Una invitación a imaginar\, probar y descubrir que la creatividad también se entrena. \nUna propuesta pensada para que los más pequeños se acerquen a la biblioteca desde otro lugar: jugando\, creando y explorando. \n📍 23 de mayo🕒 De 11:30 a 13:30 h📌 Biblioteca Municipal de Luanco👧👦 A partir de 6 años🎟️ Necesario inscripción previa. Plazas limitadas e inscripción abierta desde el lunes de la misma semana del taller en la biblioteca)
URL:https://cuentameuncuadro.com/evento/talleres-biblioarte-luanco-6/
LOCATION:Biblioteca de Luanco\, Pl. Zapardel\, 1\, 33448 Luanco\, Asturias
CATEGORIES:Talleres
ATTACH;FMTTYPE=image/jpeg:https://cuentameuncuadro.com/wp-content/uploads/2026/02/PORTADAS-WEB-5.jpg
END:VEVENT
BEGIN:VEVENT
DTSTART;TZID=Europe/Madrid:20260616T181500
DTEND;TZID=Europe/Madrid:20260616T200000
DTSTAMP:20260421T230440
CREATED:20260417T084511Z
LAST-MODIFIED:20260417T084537Z
UID:10000259-1781633700-1781640000@cuentameuncuadro.com
SUMMARY:MerendArte Junio en Avilés
DESCRIPTION:Martes 16 de junio · Merendarte: Viva la vida de Frida Kahlo\nMás información y entradas  \nMerendarte es una propuesta diferente en la que unimos arte y gastronomía en un mismo plan. \nEn esta edición te invitamos a acercarte a Viva la vida\, una de las últimas pinturas de Frida Kahlo. Realizada en 1954\, apenas unos días antes de su muerte\, la obra es una auténtica explosión de color y\, al mismo tiempo\, una especie de despedida: su epitafio artístico. \nA primera vista\, puede parecer un bodegón sencillo: sandías abiertas\, jugosas\, casi palpables. Pero en realidad es mucho más. Nos detendremos en sus detalles para descubrir cómo Frida convierte esta escena cotidiana en una declaración de intenciones\, una afirmación vital escrita incluso sobre la propia fruta: “Viva la vida”. \nHablaremos de su contexto personal\, de los últimos años de la artista y de cómo\, pese al dolor físico y emocional\, su pintura sigue apostando por la intensidad\, el color y el disfrute. Veremos también cómo este tipo de composiciones dialogan con la tradición del bodegón\, pero desde una mirada completamente propia. \nAnalizaremos el uso del color\, la textura y la composición\, así como la carga simbólica de los elementos representados\, para entender cómo Frida construye una imagen que oscila entre lo festivo y lo profundamente íntimo. \nDespués\, disfrutaremos de una merienda dulce inspirada en la obra\, que podrás acompañar con refresco\, infusión o café. \nUna experiencia cultural para saborear el arte… como si también estuvieras invitada a celebrar la vida. \nDía: Martes 16 de junioHora: 18:15Lugar: Gastrobar Plazas \nPolítica de ventasLas entradas no son reembolsables en caso de no asistencia. No obstante\, podrá transferirse la reserva a otra persona\, siempre que se comunique con antelación.
URL:https://cuentameuncuadro.com/evento/merendarte-junio-en-aviles/
LOCATION:Gastropub Plazas\, Plaza del Carbayedo\, 49\, Avilés\, Asturias\, 33402\, Spain
CATEGORIES:MerendArte
ATTACH;FMTTYPE=image/jpeg:https://cuentameuncuadro.com/wp-content/uploads/2025/09/PORTADAS-WEB-1.jpg
END:VEVENT
END:VCALENDAR