BEGIN:VCALENDAR
VERSION:2.0
PRODID:-//Cuéntame un Cuadro - ECPv6.15.20//NONSGML v1.0//EN
CALSCALE:GREGORIAN
METHOD:PUBLISH
X-WR-CALNAME:Cuéntame un Cuadro
X-ORIGINAL-URL:https://cuentameuncuadro.com
X-WR-CALDESC:Eventos para Cuéntame un Cuadro
REFRESH-INTERVAL;VALUE=DURATION:PT1H
X-Robots-Tag:noindex
X-PUBLISHED-TTL:PT1H
BEGIN:VTIMEZONE
TZID:Europe/Madrid
BEGIN:DAYLIGHT
TZOFFSETFROM:+0100
TZOFFSETTO:+0200
TZNAME:CEST
DTSTART:20250330T010000
END:DAYLIGHT
BEGIN:STANDARD
TZOFFSETFROM:+0200
TZOFFSETTO:+0100
TZNAME:CET
DTSTART:20251026T010000
END:STANDARD
BEGIN:DAYLIGHT
TZOFFSETFROM:+0100
TZOFFSETTO:+0200
TZNAME:CEST
DTSTART:20260329T010000
END:DAYLIGHT
BEGIN:STANDARD
TZOFFSETFROM:+0200
TZOFFSETTO:+0100
TZNAME:CET
DTSTART:20261025T010000
END:STANDARD
BEGIN:DAYLIGHT
TZOFFSETFROM:+0100
TZOFFSETTO:+0200
TZNAME:CEST
DTSTART:20270328T010000
END:DAYLIGHT
BEGIN:STANDARD
TZOFFSETFROM:+0200
TZOFFSETTO:+0100
TZNAME:CET
DTSTART:20271031T010000
END:STANDARD
END:VTIMEZONE
BEGIN:VEVENT
DTSTART;TZID=Europe/Madrid:20260407T100000
DTEND;TZID=Europe/Madrid:20260428T113000
DTSTAMP:20260419T161548
CREATED:20260319T120000Z
LAST-MODIFIED:20260319T120000Z
UID:10000253-1775556000-1777375800@cuentameuncuadro.com
SUMMARY:Taller de escritura creativa en Luanco
DESCRIPTION:Taller de escritura creativa · Casa de cultura de Gozón \nHay algo que siempre nos decimos: “yo no sé escribir”. Pero la realidad es otra: sabes contar historias\, sabes imaginar y sabes sentir. Solo necesitas un lugar donde ponerlo en palabras. Este taller es justo eso. \nDe la mano de Jessica Gómez Álvarez —autora de libros como Come chocolate y no discutas con idiotas o Mamá en busca del polvo perdido— trabajarás la escritura desde un lugar cercano\, sin solemnidad y sin miedo a la página en blanco. \nDurante cuatro sesiones\, explorarás ideas\, jugarás con las palabras y descubrirás que escribir no va de hacerlo perfecto\, sino de hacerlo tuyo. Habrá ejercicios prácticos\, propuestas creativas y\, sobre todo\, un espacio para probar\, equivocarte y encontrar tu propia voz. \nPorque escribir también es mirarte\, ordenar lo que piensas… y\, a veces\, sorprenderte. \n📍 Cuándo: martes 7\, 14\, 21 y 28 de abril🕙 Horario: 10:00–11:30📌 Dónde: Casa de cultura de Gozón (Pl. Zapardel\, 1\, 33448 Luanco\, Asturias)Plazas limitadas.Necesaria inscripción previa del 9 al 31 de marzo en la Casa de cultura de Gozón. \nSi llevas tiempo queriendo escribir y no sabes por dónde empezar\, este es tu sitio.Y si ya escribes\, también. \nSolo necesitas ganas. \nNos vemos al otro lado de la página. ✍️
URL:https://cuentameuncuadro.com/evento/taller-de-escritura-en-luanco/
LOCATION:Casa de cultura de Luanco\, Pl. Zapardel\, 0 S N\, Luanco\, Asturias\, 33440
CATEGORIES:Talleres
ATTACH;FMTTYPE=image/jpeg:https://cuentameuncuadro.com/wp-content/uploads/2026/03/taller-de-escritura-creativa.jpg
END:VEVENT
BEGIN:VEVENT
DTSTART;TZID=Europe/Madrid:20260419T113000
DTEND;TZID=Europe/Madrid:20260419T123000
DTSTAMP:20260419T161548
CREATED:20260225T130638Z
LAST-MODIFIED:20260225T130638Z
UID:10000227-1776598200-1776601800@cuentameuncuadro.com
SUMMARY:Rutas de Arte: Masats "Visit Spain"
DESCRIPTION:Más información y entradas \nEn colaboración con el Centro Niemeyer\, te proponemos algo muy concreto: aprender a mirar la fotografía de otra manera. \nLas Rutas de Arte que hemos preparado giran en torno a la exposición “Ramón Masats. Visit Spain”\, dedicada a uno de los grandes nombres de la fotografía española del siglo XX.  \nPero esto no va solo de ver fotos. Va de entender que una fotografía no es una captura inocente de la realidad. Que detrás de cada imagen hay decisiones: qué entra en el encuadre\, qué se queda fuera\, cuándo se dispara\, desde dónde se mira. Y que\, como ocurre con la pintura\, todo eso construye un significado. \nCon Ramón Masats te vas a encontrar algo más que escenas de la España de los años cincuenta y sesenta. Vas a descubrir una forma de mirar: imágenes con ironía\, con tensión\, con una composición muy pensada. Fotografías que dialogan con la historia del arte —donde asoman ecos de Goya o cierta luz que recuerda a Sorolla— y que te invitan a detenerte un poco más. \nDurante la visita\, iremos más allá de lo evidente. Te proponemos leer las imágenes\, desmenuzarlas\, preguntarte qué está pasando realmente dentro de ese encuadre y por qué. \nPorque no\, la fotografía no es algo que “no tenga nada que explicar”. Al contrario: cada imagen es una forma de pensamiento visual.Y mirar a Masats será\, en el fondo\, aprender a mirar mejor. \nEl precio de las Rutas de Arte es de 10 € por persona. Además\, los titulares del Club Cultura podrán beneficiarse de un precio reducido de 8 € por persona\, con un máximo de dos entradas por tarjeta. Este descuento podrá aplicarse hasta el mismo día de la actividad\, siempre que haya plazas disponibles. \nFechas disponibles (Domingos 11:30): 19 de abril y 10 de mayo
URL:https://cuentameuncuadro.com/evento/rutas-de-arte-masats-3/
LOCATION:Cúpula del Centro Niemeyer\, Av. del Zinc\, s/n\, Avilés\, Asturias\, 33490\, España
CATEGORIES:Visitas guiadas
ATTACH;FMTTYPE=image/jpeg:https://cuentameuncuadro.com/wp-content/uploads/2026/02/Rutas-de-Arte-Masats.jpg
END:VEVENT
END:VCALENDAR